BEGIN:VCALENDAR
VERSION:2.0
PRODID:-//wp-events-plugin.com//7.2.3.1//EN
TZID:Europe/Berlin
X-WR-TIMEZONE:Europe/Berlin
BEGIN:VEVENT
UID:38@tour-de-neuburg.de
DTSTART;TZID=Europe/Berlin;VALUE=DATE:20220506
DTEND;TZID=Europe/Berlin;VALUE=DATE:20220509
DTSTAMP:20220614T110209Z
URL:https://www.tour-de-neuburg.de/events/motorworld-classics-bodensee/
SUMMARY:Motorworld Classics Bodensee
DESCRIPTION:https://www.motorworld-classics-bodensee.de/
CATEGORIES:Externe Veranstaltungen
END:VEVENT
BEGIN:VTIMEZONE
TZID:Europe/Berlin
X-LIC-LOCATION:Europe/Berlin
BEGIN:DAYLIGHT
DTSTART:20220327T030000
TZOFFSETFROM:+0100
TZOFFSETTO:+0200
TZNAME:CEST
END:DAYLIGHT
END:VTIMEZONE
END:VCALENDAR