BEGIN:VCALENDAR
VERSION:2.0
PRODID:-//wp-events-plugin.com//7.2.3.1//EN
TZID:Europe/Berlin
X-WR-TIMEZONE:Europe/Berlin
BEGIN:VEVENT
UID:196@tour-de-neuburg.de
DTSTART;TZID=Europe/Berlin;VALUE=DATE:20240530
DTEND;TZID=Europe/Berlin;VALUE=DATE:20240604
DTSTAMP:20240227T145850Z
URL:https://www.tour-de-neuburg.de/events/international-mini-meeting/
SUMMARY:International Mini Meeting
DESCRIPTION:imm2024.com\n\nIn Geiselwind\n\n&nbsp\;
ATTACH;FMTTYPE=image/jpeg:https://www.tour-de-neuburg.de/wp-content/upload
 s/2023/12/cropped-IMM-2024-Logo-600x6001-1.png
CATEGORIES:Externe Veranstaltungen
END:VEVENT
BEGIN:VTIMEZONE
TZID:Europe/Berlin
X-LIC-LOCATION:Europe/Berlin
BEGIN:DAYLIGHT
DTSTART:20240331T030000
TZOFFSETFROM:+0100
TZOFFSETTO:+0200
TZNAME:CEST
END:DAYLIGHT
END:VTIMEZONE
END:VCALENDAR