BEGIN:VCALENDAR
VERSION:2.0
PRODID:-//wp-events-plugin.com//7.2.3.1//EN
TZID:Europe/Berlin
X-WR-TIMEZONE:Europe/Berlin
BEGIN:VEVENT
UID:266@tour-de-neuburg.de
DTSTART;TZID=Europe/Berlin;VALUE=DATE:20260913
DTEND;TZID=Europe/Berlin;VALUE=DATE:20260914
DTSTAMP:20260214T230836Z
URL:https://www.tour-de-neuburg.de/events/donau-rallye-revival76/
SUMMARY:Donau-Rallye-Revival '76
DESCRIPTION:Donau-Rallye-Revival ’76 am (derzeit geplant) 13.09.2026\n\nV
 or 50 Jahren – genau am 11.09.1976 – veranstaltete der Motorclub Neubu
 rg mitten in seiner wilden „Rallyephase“ die erste Donau-Rallye. Diese
 s runde Jubiläum möchten wir mit einem Rallye-Revival für klassischen 
 „Rallye-Autos“ würdig begehen und das gute alte „Rallyefeeling“ w
 ieder etwas aufleben lassen. Start- und Zielort wird (nach derzeitigem Pla
 nungsstand) der bekannte Landgasthof Vogelsang in Weichering sein. Dort fi
 nden auch die obligatorische Einschreibung und die Fahrerbesprechung statt
 . Als „stärkender“ Auftakt wird dort auch das gemeinsame „Startmitt
 agsessen“ eingenommen. Danach ist eine lockere Rallye-Ausfahrt nach eine
 m Roadbook und mit einfachen Aufgaben geplant. Das muss sein weil ja sonst
  der alte Spruch: „Das Gehirn sitzt rechts!“ nicht stimmen würde. Ein
  feierlicher Abschluss mit Siegerehrung steht natürlich auf auf dem Zeitp
 lan. Bitte daher ausreichend Zeit für das Revival und die anschließenden
  – sicherlich interessanten – Benzingespräche mit den anderen „Rall
 ye-Recken“ mitbringen.\n\n&nbsp\;\n\n- zulässige Fahrzeuge: &nbsp\;&nbs
 p\; Rallyeautos im original Zustand und Replikas als Youngtimer (Fahrzeuga
 lter 20 bis 30 Jahre) oder Oldtimer (älter als 30 Jahre). Automobile Beso
 nderheiten dürfen gerne auch „etwas“ jünger sein.\n\n- geplanter Abl
 auf:&nbsp\; &nbsp\; &nbsp\; &nbsp\;&nbsp\;\nab 10.00 Uhr&nbsp\;&nbsp\;&nbs
 p\;&nbsp\;&nbsp\;&nbsp\;&nbsp\;&nbsp\;&nbsp\;&nbsp\;&nbsp\;&nbsp\;&nbsp\; 
 Eintreffen der Teilnehmer im Rallyezentrum\nab 10.30 Uhr &nbsp\;&nbsp\;&nb
 sp\;&nbsp\;&nbsp\;&nbsp\;&nbsp\;&nbsp\;&nbsp\;&nbsp\;&nbsp\;&nbsp\; Beginn
  der Einschreibung und Ausgabe der Unterlagen\nab 11.45 Uhr&nbsp\;&nbsp\;&
 nbsp\;&nbsp\;&nbsp\;&nbsp\;&nbsp\;&nbsp\;&nbsp\;&nbsp\;&nbsp\;&nbsp\;&nbsp
 \;&nbsp\; Begrüßung und anschließend gemeinsames Mittagessen\nab 13.15 
 Uhr&nbsp\;&nbsp\;&nbsp\;&nbsp\;&nbsp\;&nbsp\;&nbsp\;&nbsp\;&nbsp\;&nbsp\;&
 nbsp\;&nbsp\;&nbsp\; „kurze“ Einweisung durch die Fahrtleitung\nab 13.
 45 Uhr&nbsp\;&nbsp\;&nbsp\;&nbsp\;&nbsp\;&nbsp\;&nbsp\;&nbsp\;&nbsp\;&nbsp
 \;&nbsp\;&nbsp\;&nbsp\; Start des ersten Fahrzeuges mit kurzer Präsentati
 on\nab 16.00 Uhr&nbsp\;&nbsp\;&nbsp\;&nbsp\;&nbsp\;&nbsp\;&nbsp\;&nbsp\;&n
 bsp\;&nbsp\;&nbsp\;&nbsp\;&nbsp\; Zielankunft mit Präsentation und Abgabe
  der Wertungsunterlagen\ndanach&nbsp\;&nbsp\;&nbsp\;&nbsp\;&nbsp\;&nbsp\;&
 nbsp\;&nbsp\;&nbsp\;&nbsp\;&nbsp\;&nbsp\;&nbsp\;&nbsp\;&nbsp\;&nbsp\;&nbsp
 \;&nbsp\;&nbsp\;&nbsp\;&nbsp\;&nbsp\;&nbsp\; zwanglose Kaffeepause\nab 16.
 45 Uhr&nbsp\;&nbsp\;&nbsp\;&nbsp\;&nbsp\;&nbsp\;&nbsp\;&nbsp\;&nbsp\;&nbsp
 \;&nbsp\;&nbsp\;&nbsp\; Siegerehrungen\ndanach &nbsp\;&nbsp\;&nbsp\;&nbsp\
 ;&nbsp\;&nbsp\;&nbsp\;&nbsp\;&nbsp\;&nbsp\;&nbsp\;&nbsp\;&nbsp\;&nbsp\;&nb
 sp\;&nbsp\;&nbsp\;&nbsp\;&nbsp\;&nbsp\;&nbsp\; gemütlicher Ausklang\n\n- 
 Startgeld: &nbsp\;&nbsp\;&nbsp\;&nbsp\;&nbsp\;&nbsp\;&nbsp\;&nbsp\;&nbsp\;
 &nbsp\;&nbsp\;&nbsp\;&nbsp\;&nbsp\;&nbsp\;&nbsp\;&nbsp\;&nbsp\;&nbsp\;&nbs
 p\; Das Startgeld beträgt pro Team (zwei Personen) ??? € &gt\; wird noc
 h ermittet\n\n&nbsp\;\n\nIm Startgeld sind folgende Leistungen inbegriffen
 :\n\n 	Planung und Organisation des Donau-Rallye-Revivals\n 	Roadbook und 
 Streckenskizze\n 	„Fahrzeugnummern“ Donau-Rallye-Revival\n 	Erinnerung
 sgeschenk Donau-Rallye-Revival\n 	2 Mittagessen\n 	Kaffee und Kuchen\n\n- 
 Aufgaben: Müssen sein damit das Gehirn auch etwas zu tun hat!&nbsp\;&nbsp
 \;&nbsp\;&nbsp\;&nbsp\;&nbsp\;&nbsp\;&nbsp\;&nbsp\;&nbsp\;&nbsp\;&nbsp\;&n
 bsp\;&nbsp\; \n\n 	\n\n 	Fahrt nach einem Roadbook (mit kilometrierten Chi
 nesenzeichen)\n 	eine Teilstrecke als Orientierungsetappe (Kartenauszug)\n
  	Durchfahrtskontrollen durch besetzte Stempelposten oder mit Streckennumm
 ern dokumentiert in der mitzuführenden Bordkarte\n 	eine einfache Ori-Eta
 ppe (mit Pfeilen\, Strichen und Punkten)\n 	wenn möglich ein Teilstück a
 ls minutengenaue Gleichmäßigkeits-prüfung (GLP) ggf. mit Stempelung dur
 ch den Beifahrer\n 	wenn möglich eine kurze Strecke als sekundengenaue Gl
 eich-mäßigkeitsprüfung (GLP)\n 	weitere Aufgaben: \n 	„Hallo wach“ 
 = zählen oder notieren von bestimmten Verkehrszeichen auf der ersten Teil
 strecke\n 	„geben von Auskünften“ zum Fahrzeug bei der Präsentation\
 n 	„DK still“ = suchen und notieren von Nummertafeln ggf. mit Angabe d
 er km vom Startpunkt\n\n\n\n- mehr aktuelle Infos zum Donau-Rallye-Revival
  ’76 immer zeitnah auf unserer Sparten-Homepage "www.tour-de-neuburg.de"
  \n\n*Hinweise:\nDie Nennung ist noch nicht möglich\, ihr könnt euch abe
 r unverbindlich im Formular als Interessent anmelden. Wir kontaktieren euc
 h dann\, wenn es Neuigkeiten zu diesem Termin gibt\,&nbsp\;&nbsp\;
ATTACH;FMTTYPE=image/jpeg:https://www.tour-de-neuburg.de/wp-content/upload
 s/2026/01/Gemini_Generated_Image_xajbtaxajbtaxajb.png
CATEGORIES:Ausfahrt Sparte Oldtimer,Brotzeit-Tour
LOCATION:https://www.tour-de-neuburg.de/donau-rallye-revival/
END:VEVENT
BEGIN:VTIMEZONE
TZID:Europe/Berlin
X-LIC-LOCATION:Europe/Berlin
BEGIN:DAYLIGHT
DTSTART:20260329T030000
TZOFFSETFROM:+0100
TZOFFSETTO:+0200
TZNAME:CEST
END:DAYLIGHT
END:VTIMEZONE
END:VCALENDAR